BEGIN:VCALENDAR
VERSION:2.0
PRODID:-//Palo Alto Community Fund - ECPv6.15.20//NONSGML v1.0//EN
CALSCALE:GREGORIAN
METHOD:PUBLISH
X-WR-CALNAME:Palo Alto Community Fund
X-ORIGINAL-URL:https://paloaltocommfund.org
X-WR-CALDESC:Events for Palo Alto Community Fund
REFRESH-INTERVAL;VALUE=DURATION:PT1H
X-Robots-Tag:noindex
X-PUBLISHED-TTL:PT1H
BEGIN:VTIMEZONE
TZID:UTC
BEGIN:STANDARD
TZOFFSETFROM:+0000
TZOFFSETTO:+0000
TZNAME:UTC
DTSTART:20250101T000000
END:STANDARD
END:VTIMEZONE
BEGIN:VEVENT
DTSTART;TZID=UTC:20260415T090000
DTEND;TZID=UTC:20260415T103000
DTSTAMP:20260424T154952
CREATED:20260317T190040Z
LAST-MODIFIED:20260415T165857Z
UID:10000002-1776243600-1776249000@paloaltocommfund.org
SUMMARY:2026 Rise & Shine
DESCRIPTION:Please join us on Wednesday\, April 15 from 9–10:30 AM at the Chan Zuckerberg Community Space (801 Jefferson Ave Suite 100\, Redwood City\, CA 94063) for a light breakfast to meet\, mingle\, and munch with fellow Palo Alto Community Fund grantees. \nGuest Speaker: Pastor Paul Bains\, Co-Founder & President\, Project WeHOPE \nThis is an invite only event for PACF’s 2026 grantee organizations and members of the PACF Board of Directors. Up to two (2) staff or Board members from each grantee organization may RSVP to attend this event to meet and network with other members our grantee community. Please RSVP for each attendee separately. To register\, add the code provided via email to the field below to reveal the registration form.  \nIf you would like to inquire about registering additional members of your team\, please reach out to jkim@paloaltocommfund.org. Additional RSVPs may be approved if space permits. \nParking\nWhile the Community Space does not offer parking\, their is parking conveniently located four blocks from the Redwood City Caltrain station across the street from the Jefferson Parking Garage. Bicycle parking is not offered on-site. \n  \n\n  \nRegistration for this event is now closed.
URL:https://paloaltocommfund.org/event/2026riseandshine/
LOCATION:Chan Zuckerberg Community Space\, 801 Jefferson Ave Suite 100\, Redwood City\, CA\, 94063
ATTACH;FMTTYPE=image/png:https://paloaltocommfund.org/wp-content/uploads/2026/03/PACF-Rise-Shine-2026-1920-x-1080-px.png
END:VEVENT
END:VCALENDAR